Package: faers Version: 1.2.0 Command: /home/biocbuild/R/R/bin/R CMD build --keep-empty-dirs --no-resave-data faers StartedAt: 2025-01-30 23:33:44 -0000 (Thu, 30 Jan 2025) EndedAt: 2025-01-30 23:34:22 -0000 (Thu, 30 Jan 2025) EllapsedTime: 38.0 seconds RetCode: 0 Status: OK PackageFile: faers_1.2.0.tar.gz PackageFileSize: 2.909 MiB