Package: famat Version: 1.16.0 Command: /home/biocbuild/bbs-3.20-bioc/R/bin/R CMD build --keep-empty-dirs --no-resave-data --md5 famat StartedAt: 2025-02-03 17:24:12 -0500 (Mon, 03 Feb 2025) EndedAt: 2025-02-03 17:26:35 -0500 (Mon, 03 Feb 2025) EllapsedTime: 143.2 seconds RetCode: 0 Status: OK PackageFile: famat_1.16.0.tar.gz PackageFileSize: 3.92 MiB