Package: famat Version: 1.16.0 Command: /home/biocbuild/bbs-3.20-bioc/R/bin/R CMD check --install=check:famat.install-out.txt --library=/home/biocbuild/bbs-3.20-bioc/R/site-library --timings famat_1.16.0.tar.gz StartedAt: 2025-02-03 22:20:20 -0500 (Mon, 03 Feb 2025) EndedAt: 2025-02-03 22:25:54 -0500 (Mon, 03 Feb 2025) EllapsedTime: 333.5 seconds RetCode: 1 Status: ERROR CheckDir: famat.Rcheck Warnings: NA