Package: famat Version: 1.16.0 Command: /home/biocbuild/bbs-3.20-bioc/R/bin/R CMD INSTALL famat StartedAt: 2025-02-03 15:54:17 -0500 (Mon, 03 Feb 2025) EndedAt: 2025-02-03 15:55:01 -0500 (Mon, 03 Feb 2025) EllapsedTime: 44.7 seconds RetCode: 0 Status: OK