Package: famat Version: 1.16.0 Command: rm -rf famat.buildbin-libdir && mkdir famat.buildbin-libdir && F:\biocbuild\bbs-3.20-bioc\R\bin\R.exe CMD INSTALL --build --library=famat.buildbin-libdir famat_1.16.0.tar.gz StartedAt: 2025-02-04 08:29:06 -0500 (Tue, 04 Feb 2025) EndedAt: 2025-02-04 08:30:01 -0500 (Tue, 04 Feb 2025) EllapsedTime: 55.6 seconds RetCode: 0 Status: OK PackageFile: famat_1.16.0.zip PackageFileSize: 3.646 MiB