Package: fastLiquidAssociation Version: 1.42.0 Command: /Library/Frameworks/R.framework/Resources/bin/R CMD build --keep-empty-dirs --no-resave-data fastLiquidAssociation StartedAt: 2025-02-03 23:30:24 -0500 (Mon, 03 Feb 2025) EndedAt: 2025-02-03 23:32:04 -0500 (Mon, 03 Feb 2025) EllapsedTime: 100.5 seconds RetCode: 0 Status: OK PackageFile: fastLiquidAssociation_1.42.0.tar.gz PackageFileSize: 750.3 KiB