Package: fastLiquidAssociation Version: 1.42.0 Command: /Library/Frameworks/R.framework/Resources/bin/R CMD check --install=check:fastLiquidAssociation.install-out.txt --library=/Library/Frameworks/R.framework/Resources/library --no-vignettes --timings fastLiquidAssociation_1.42.0.tar.gz StartedAt: 2025-02-04 19:39:48 -0500 (Tue, 04 Feb 2025) EndedAt: 2025-02-04 19:42:59 -0500 (Tue, 04 Feb 2025) EllapsedTime: 190.3 seconds RetCode: 0 Status: WARNINGS CheckDir: fastLiquidAssociation.Rcheck Warnings: 1