Package: fastLiquidAssociation Version: 1.42.0 Command: /Library/Frameworks/R.framework/Resources/bin/R CMD INSTALL fastLiquidAssociation StartedAt: 2025-02-03 17:05:48 -0500 (Mon, 03 Feb 2025) EndedAt: 2025-02-03 17:06:11 -0500 (Mon, 03 Feb 2025) EllapsedTime: 23.0 seconds RetCode: 0 Status: OK