Package: fastLiquidAssociation Version: 1.42.0 Command: /Library/Frameworks/R.framework/Resources/bin/R CMD check --install=check:fastLiquidAssociation.install-out.txt --library=/Library/Frameworks/R.framework/Resources/library --no-vignettes --timings fastLiquidAssociation_1.42.0.tar.gz StartedAt: 2024-11-09 02:09:43 -0500 (Sat, 09 Nov 2024) EndedAt: 2024-11-09 02:14:21 -0500 (Sat, 09 Nov 2024) EllapsedTime: 278.8 seconds RetCode: 0 Status: WARNINGS CheckDir: fastLiquidAssociation.Rcheck Warnings: 1