Package: fastLiquidAssociation Version: 1.42.0 Command: rm -rf fastLiquidAssociation.buildbin-libdir && mkdir fastLiquidAssociation.buildbin-libdir && /Users/biocbuild/BBS/utils/build-universal.sh fastLiquidAssociation_1.42.0.tar.gz /Library/Frameworks/R.framework/Resources/bin/R fastLiquidAssociation.buildbin-libdir StartedAt: 2025-02-04 12:56:13 -0500 (Tue, 04 Feb 2025) EndedAt: 2025-02-04 12:56:59 -0500 (Tue, 04 Feb 2025) EllapsedTime: 45.8 seconds RetCode: 0 Status: OK PackageFile: fastLiquidAssociation_1.42.0.tgz PackageFileSize: 660.4 KiB