Package: fastLiquidAssociation Version: 1.42.0 Command: /Library/Frameworks/R.framework/Resources/bin/R CMD build --keep-empty-dirs --no-resave-data fastLiquidAssociation StartedAt: 2025-02-03 18:54:42 -0500 (Mon, 03 Feb 2025) EndedAt: 2025-02-03 18:57:32 -0500 (Mon, 03 Feb 2025) EllapsedTime: 169.8 seconds RetCode: 0 Status: OK PackageFile: fastLiquidAssociation_1.42.0.tar.gz PackageFileSize: 750.3 KiB