Package: fastLiquidAssociation Version: 1.42.0 Command: /Library/Frameworks/R.framework/Resources/bin/R CMD INSTALL fastLiquidAssociation StartedAt: 2025-02-03 16:15:51 -0500 (Mon, 03 Feb 2025) EndedAt: 2025-02-03 16:16:35 -0500 (Mon, 03 Feb 2025) EllapsedTime: 43.8 seconds RetCode: 0 Status: OK