Package: fastLiquidAssociation Version: 1.42.0 Command: rm -rf fastLiquidAssociation.buildbin-libdir && mkdir fastLiquidAssociation.buildbin-libdir && F:\biocbuild\bbs-3.20-bioc\R\bin\R.exe CMD INSTALL --build --library=fastLiquidAssociation.buildbin-libdir fastLiquidAssociation_1.42.0.tar.gz StartedAt: 2025-02-04 08:29:08 -0500 (Tue, 04 Feb 2025) EndedAt: 2025-02-04 08:32:26 -0500 (Tue, 04 Feb 2025) EllapsedTime: 197.7 seconds RetCode: 0 Status: OK PackageFile: fastLiquidAssociation_1.42.0.zip PackageFileSize: 668 KiB