Package: fastLiquidAssociation Version: 1.42.0 Command: chmod a+r fastLiquidAssociation -R && F:\biocbuild\bbs-3.20-bioc\R\bin\R.exe CMD build --keep-empty-dirs --no-resave-data fastLiquidAssociation StartedAt: 2025-02-03 19:05:03 -0500 (Mon, 03 Feb 2025) EndedAt: 2025-02-03 19:06:32 -0500 (Mon, 03 Feb 2025) EllapsedTime: 89.4 seconds RetCode: 0 Status: OK PackageFile: fastLiquidAssociation_1.42.0.tar.gz PackageFileSize: 753.1 KiB