Package: fastLiquidAssociation Version: 1.42.0 Command: F:\biocbuild\bbs-3.20-bioc\R\bin\R.exe CMD INSTALL fastLiquidAssociation StartedAt: 2025-02-03 16:08:27 -0500 (Mon, 03 Feb 2025) EndedAt: 2025-02-03 16:10:20 -0500 (Mon, 03 Feb 2025) EllapsedTime: 112.8 seconds RetCode: 0 Status: OK