Package: fastLiquidAssociation Version: 1.42.0 Command: /home/biocbuild/R/R/bin/R CMD INSTALL fastLiquidAssociation StartedAt: 2025-02-03 21:04:04 -0000 (Mon, 03 Feb 2025) EndedAt: 2025-02-03 21:04:30 -0000 (Mon, 03 Feb 2025) EllapsedTime: 25.4 seconds RetCode: 0 Status: OK