Package: fastreeR
Version: 1.9.0
Command: /home/biocbuild/R/R/bin/R CMD check --install=check:fastreeR.install-out.txt --library=/home/biocbuild/R/R/site-library --no-vignettes --timings fastreeR_1.9.0.tar.gz
StartedAt: 2024-07-06 04:55:24 -0000 (Sat, 06 Jul 2024)
EndedAt: 2024-07-06 04:56:01 -0000 (Sat, 06 Jul 2024)
EllapsedTime: 37.1 seconds
RetCode: 0
Status: OK
CheckDir: fastreeR.Rcheck
Warnings: 0