Package: fastreeR Version: 1.10.0 Command: rm -rf fastreeR.buildbin-libdir && mkdir fastreeR.buildbin-libdir && /Users/biocbuild/BBS/utils/build-universal.sh fastreeR_1.10.0.tar.gz /Library/Frameworks/R.framework/Resources/bin/R fastreeR.buildbin-libdir StartedAt: 2025-02-04 12:56:13 -0500 (Tue, 04 Feb 2025) EndedAt: 2025-02-04 12:56:21 -0500 (Tue, 04 Feb 2025) EllapsedTime: 7.5 seconds RetCode: 0 Status: OK PackageFile: fastreeR_1.10.0.tgz PackageFileSize: 2.104 MiB