##############################################################################
##############################################################################
###
### Running command:
###
###   rm -rf fastreeR.buildbin-libdir && mkdir fastreeR.buildbin-libdir && F:\biocbuild\bbs-3.20-bioc\R\bin\R.exe CMD INSTALL --build --library=fastreeR.buildbin-libdir fastreeR_1.9.0.tar.gz
###
##############################################################################
##############################################################################


* installing *source* package 'fastreeR' ...
** using staged installation
** R
** inst
** byte-compile and prepare package for lazy loading
** help
*** installing help indices
** building package indices
** installing vignettes
** testing if installed package can be loaded from temporary location
** testing if installed package can be loaded from final location
** testing if installed package keeps a record of temporary installation path
* MD5 sums
packaged installation of 'fastreeR' as fastreeR_1.9.0.zip
* DONE (fastreeR)