Package: fastseg Version: 1.52.0 Command: /Library/Frameworks/R.framework/Resources/bin/R CMD check --install=check:fastseg.install-out.txt --library=/Library/Frameworks/R.framework/Resources/library --no-vignettes --timings fastseg_1.52.0.tar.gz StartedAt: 2025-02-04 19:41:29 -0500 (Tue, 04 Feb 2025) EndedAt: 2025-02-04 19:43:03 -0500 (Tue, 04 Feb 2025) EllapsedTime: 94.3 seconds RetCode: 0 Status: OK CheckDir: fastseg.Rcheck Warnings: 0