Package: fastseg
Version: 1.52.0
Command: /Library/Frameworks/R.framework/Resources/bin/R CMD INSTALL fastseg
StartedAt: 2024-11-08 15:18:18 -0500 (Fri, 08 Nov 2024)
EndedAt: 2024-11-08 15:18:26 -0500 (Fri, 08 Nov 2024)
EllapsedTime: 7.2 seconds
RetCode: 0
Status: OK