Package: fastseg Version: 1.52.0 Command: /home/biocbuild/bbs-3.20-bioc/R/bin/R CMD build --keep-empty-dirs --no-resave-data --md5 fastseg StartedAt: 2025-02-03 17:24:23 -0500 (Mon, 03 Feb 2025) EndedAt: 2025-02-03 17:25:08 -0500 (Mon, 03 Feb 2025) EllapsedTime: 45.1 seconds RetCode: 0 Status: OK PackageFile: fastseg_1.52.0.tar.gz PackageFileSize: 719.7 KiB