Package: fastseg Version: 1.52.0 Command: /home/biocbuild/bbs-3.20-bioc/R/bin/R CMD INSTALL fastseg StartedAt: 2025-02-03 15:24:33 -0500 (Mon, 03 Feb 2025) EndedAt: 2025-02-03 15:24:44 -0500 (Mon, 03 Feb 2025) EllapsedTime: 10.9 seconds RetCode: 0 Status: OK