Package: fedup Version: 1.14.0 Command: /Library/Frameworks/R.framework/Resources/bin/R CMD check --install=check:fedup.install-out.txt --library=/Library/Frameworks/R.framework/Resources/library --no-vignettes --timings fedup_1.14.0.tar.gz StartedAt: 2025-02-04 19:46:07 -0500 (Tue, 04 Feb 2025) EndedAt: 2025-02-04 19:50:00 -0500 (Tue, 04 Feb 2025) EllapsedTime: 233.6 seconds RetCode: 0 Status: OK CheckDir: fedup.Rcheck Warnings: 0