Package: fedup Version: 1.14.0 Command: /home/biocbuild/bbs-3.20-bioc/R/bin/R CMD build --keep-empty-dirs --no-resave-data --md5 fedup StartedAt: 2025-02-17 17:11:59 -0500 (Mon, 17 Feb 2025) EndedAt: 2025-02-17 17:13:14 -0500 (Mon, 17 Feb 2025) EllapsedTime: 75.1 seconds RetCode: 0 Status: OK PackageFile: fedup_1.14.0.tar.gz PackageFileSize: 4.704 <A href="http://en.wikipedia.org/wiki/MiB" target="_blank">MiB</A>