Package: fedup Version: 1.14.0 Command: /home/biocbuild/R/R/bin/R CMD build --keep-empty-dirs --no-resave-data fedup StartedAt: 2025-02-03 23:35:02 -0000 (Mon, 03 Feb 2025) EndedAt: 2025-02-03 23:36:56 -0000 (Mon, 03 Feb 2025) EllapsedTime: 114.0 seconds RetCode: 0 Status: OK PackageFile: fedup_1.14.0.tar.gz PackageFileSize: 3.814 MiB