Package: fedup
Version: 1.14.0
Command: /home/biocbuild/R/R/bin/R CMD INSTALL fedup
StartedAt: 2025-02-17 21:14:49 -0000 (Mon, 17 Feb 2025)
EndedAt: 2025-02-17 21:14:58 -0000 (Mon, 17 Feb 2025)
EllapsedTime: 9.7 seconds
RetCode: 0
Status: OK