Package: fenr Version: 1.4.1 Command: /Library/Frameworks/R.framework/Resources/bin/R CMD build --keep-empty-dirs --no-resave-data fenr StartedAt: 2025-02-03 18:56:35 -0500 (Mon, 03 Feb 2025) EndedAt: 2025-02-03 18:57:38 -0500 (Mon, 03 Feb 2025) EllapsedTime: 62.5 seconds RetCode: 0 Status: OK PackageFile: fenr_1.4.1.tar.gz PackageFileSize: 1.927 MiB