Package: fenr Version: 1.4.1 Command: /home/biocbuild/bbs-3.20-bioc/R/bin/R CMD INSTALL fenr StartedAt: 2025-02-03 15:40:29 -0500 (Mon, 03 Feb 2025) EndedAt: 2025-02-03 15:40:33 -0500 (Mon, 03 Feb 2025) EllapsedTime: 3.3 seconds RetCode: 0 Status: OK