Package: fenr Version: 1.4.1 Command: rm -rf fenr.buildbin-libdir && mkdir fenr.buildbin-libdir && F:\biocbuild\bbs-3.20-bioc\R\bin\R.exe CMD INSTALL --build --library=fenr.buildbin-libdir fenr_1.4.1.tar.gz StartedAt: 2025-02-04 08:29:32 -0500 (Tue, 04 Feb 2025) EndedAt: 2025-02-04 08:29:49 -0500 (Tue, 04 Feb 2025) EllapsedTime: 16.7 seconds RetCode: 0 Status: OK PackageFile: fenr_1.4.1.zip PackageFileSize: 1.75 MiB