Package: fenr Version: 1.4.1 Command: chmod a+r fenr -R && F:\biocbuild\bbs-3.20-bioc\R\bin\R.exe CMD build --keep-empty-dirs --no-resave-data fenr StartedAt: 2025-02-03 19:07:54 -0500 (Mon, 03 Feb 2025) EndedAt: 2025-02-03 19:08:28 -0500 (Mon, 03 Feb 2025) EllapsedTime: 34.4 seconds RetCode: 0 Status: OK PackageFile: fenr_1.4.1.tar.gz PackageFileSize: 1.927 MiB