Package: fenr
Version: 1.4.1
Command: /home/biocbuild/R/R/bin/R CMD build --keep-empty-dirs --no-resave-data fenr
StartedAt: 2025-02-17 23:36:01 -0000 (Mon, 17 Feb 2025)
EndedAt: 2025-02-17 23:36:32 -0000 (Mon, 17 Feb 2025)
EllapsedTime: 31.0 seconds
RetCode: 0
Status: OK
PackageFile: fenr_1.4.1.tar.gz
PackageFileSize: 1.991 <A href="http://en.wikipedia.org/wiki/MiB" target="_blank">MiB</A>