Package: ffpe Version: 1.50.0 Command: /Library/Frameworks/R.framework/Resources/bin/R CMD INSTALL ffpe StartedAt: 2025-02-03 18:01:47 -0500 (Mon, 03 Feb 2025) EndedAt: 2025-02-03 18:02:44 -0500 (Mon, 03 Feb 2025) EllapsedTime: 56.9 seconds RetCode: 0 Status: OK