Package: ffpe Version: 1.50.0 Command: /home/biocbuild/bbs-3.20-bioc/R/bin/R CMD build --keep-empty-dirs --no-resave-data --md5 ffpe StartedAt: 2025-02-03 17:25:21 -0500 (Mon, 03 Feb 2025) EndedAt: 2025-02-03 17:26:29 -0500 (Mon, 03 Feb 2025) EllapsedTime: 68.1 seconds RetCode: 0 Status: OK PackageFile: ffpe_1.50.0.tar.gz PackageFileSize: 268.3 KiB