Package: ffpe
Version: 1.49.0
Command: chmod a+r ffpe -R && F:\biocbuild\bbs-3.20-bioc\R\bin\R.exe CMD build --keep-empty-dirs --no-resave-data ffpe
StartedAt: 2024-06-09 18:57:40 -0400 (Sun, 09 Jun 2024)
EndedAt: 2024-06-09 18:59:16 -0400 (Sun, 09 Jun 2024)
EllapsedTime: 96.1 seconds
RetCode: 0
Status: OK
PackageFile: ffpe_1.49.0.tar.gz
PackageFileSize: 163.6 <A href="http://en.wikipedia.org/wiki/KiB" target="_blank">KiB</A>