Package: ffpe Version: 1.50.0 Command: /home/biocbuild/R/R/bin/R CMD INSTALL ffpe StartedAt: 2025-02-03 21:22:36 -0000 (Mon, 03 Feb 2025) EndedAt: 2025-02-03 21:23:36 -0000 (Mon, 03 Feb 2025) EllapsedTime: 59.9 seconds RetCode: 0 Status: OK