Package: fgsea Version: 1.32.2 Command: /Library/Frameworks/R.framework/Resources/bin/R CMD build --keep-empty-dirs --no-resave-data fgsea StartedAt: 2025-02-03 23:34:29 -0500 (Mon, 03 Feb 2025) EndedAt: 2025-02-03 23:36:56 -0500 (Mon, 03 Feb 2025) EllapsedTime: 147.1 seconds RetCode: 1 Status: ERROR PackageFile: None PackageFileSize: NA