Package: fgsea Version: 1.31.0 Command: rm -rf fgsea.buildbin-libdir && mkdir fgsea.buildbin-libdir && /Users/biocbuild/BBS/utils/build-universal.sh fgsea_1.31.0.tar.gz /Library/Frameworks/R.framework/Resources/bin/R fgsea.buildbin-libdir StartedAt: 2024-06-10 12:35:32 -0400 (Mon, 10 Jun 2024) EndedAt: 2024-06-10 12:37:08 -0400 (Mon, 10 Jun 2024) EllapsedTime: 96.5 seconds RetCode: 0 Status: OK PackageFile: fgsea_1.31.0.tgz PackageFileSize: 4.636 MiB