Package: fgsea Version: 1.32.2 Command: /Library/Frameworks/R.framework/Resources/bin/R CMD build --keep-empty-dirs --no-resave-data fgsea StartedAt: 2025-02-03 18:57:06 -0500 (Mon, 03 Feb 2025) EndedAt: 2025-02-03 19:01:01 -0500 (Mon, 03 Feb 2025) EllapsedTime: 234.8 seconds RetCode: 1 Status: ERROR PackageFile: None PackageFileSize: NA