Package: fgsea Version: 1.32.2 Command: /Library/Frameworks/R.framework/Resources/bin/R CMD INSTALL fgsea StartedAt: 2025-02-03 16:15:14 -0500 (Mon, 03 Feb 2025) EndedAt: 2025-02-03 16:16:27 -0500 (Mon, 03 Feb 2025) EllapsedTime: 72.6 seconds RetCode: 0 Status: OK