Package: fgsea Version: 1.32.2 Command: /home/biocbuild/bbs-3.20-bioc/R/bin/R CMD build --keep-empty-dirs --no-resave-data --md5 fgsea StartedAt: 2025-01-30 17:16:09 -0500 (Thu, 30 Jan 2025) EndedAt: 2025-01-30 17:21:58 -0500 (Thu, 30 Jan 2025) EllapsedTime: 349.5 seconds RetCode: 0 Status: OK PackageFile: fgsea_1.32.2.tar.gz PackageFileSize: 4.75 MiB