Package: fgsea Version: 1.32.2 Command: /home/biocbuild/bbs-3.20-bioc/R/bin/R CMD check --install=check:fgsea.install-out.txt --library=/home/biocbuild/bbs-3.20-bioc/R/site-library --timings fgsea_1.32.2.tar.gz StartedAt: 2025-01-30 22:12:53 -0500 (Thu, 30 Jan 2025) EndedAt: 2025-01-30 22:31:32 -0500 (Thu, 30 Jan 2025) EllapsedTime: 1119.5 seconds RetCode: 0 Status: OK CheckDir: fgsea.Rcheck Warnings: 0