Package: fgsea Version: 1.32.2 Command: /home/biocbuild/bbs-3.20-bioc/R/bin/R CMD INSTALL fgsea StartedAt: 2025-01-30 15:41:44 -0500 (Thu, 30 Jan 2025) EndedAt: 2025-01-30 15:42:25 -0500 (Thu, 30 Jan 2025) EllapsedTime: 41.5 seconds RetCode: 0 Status: OK