Package: fgsea Version: 1.32.2 Command: chmod a+r fgsea -R && F:\biocbuild\bbs-3.20-bioc\R\bin\R.exe CMD build --keep-empty-dirs --no-resave-data fgsea StartedAt: 2025-01-30 18:53:01 -0500 (Thu, 30 Jan 2025) EndedAt: 2025-01-30 19:05:35 -0500 (Thu, 30 Jan 2025) EllapsedTime: 753.1 seconds RetCode: 0 Status: OK PackageFile: fgsea_1.32.2.tar.gz PackageFileSize: 3.757 MiB