Package: fgsea Version: 1.32.2 Command: F:\biocbuild\bbs-3.20-bioc\R\bin\R.exe CMD INSTALL fgsea StartedAt: 2025-01-30 16:23:22 -0500 (Thu, 30 Jan 2025) EndedAt: 2025-01-30 16:24:16 -0500 (Thu, 30 Jan 2025) EllapsedTime: 54.1 seconds RetCode: 0 Status: OK