Package: findIPs Version: 1.2.0 Command: /Library/Frameworks/R.framework/Resources/bin/R CMD check --install=check:findIPs.install-out.txt --library=/Library/Frameworks/R.framework/Resources/library --no-vignettes --timings findIPs_1.2.0.tar.gz StartedAt: 2025-01-31 19:21:15 -0500 (Fri, 31 Jan 2025) EndedAt: 2025-01-31 19:27:46 -0500 (Fri, 31 Jan 2025) EllapsedTime: 390.4 seconds RetCode: 0 Status: OK CheckDir: findIPs.Rcheck Warnings: 0