Package: findIPs Version: 1.2.0 Command: /Library/Frameworks/R.framework/Resources/bin/R CMD INSTALL findIPs StartedAt: 2025-01-30 17:16:30 -0500 (Thu, 30 Jan 2025) EndedAt: 2025-01-30 17:16:53 -0500 (Thu, 30 Jan 2025) EllapsedTime: 23.0 seconds RetCode: 0 Status: OK