Package: findIPs Version: 1.2.0 Command: /Library/Frameworks/R.framework/Resources/bin/R CMD check --install=check:findIPs.install-out.txt --library=/Library/Frameworks/R.framework/Resources/library --no-vignettes --timings findIPs_1.2.0.tar.gz StartedAt: 2025-01-31 03:54:49 -0500 (Fri, 31 Jan 2025) EndedAt: 2025-01-31 04:10:42 -0500 (Fri, 31 Jan 2025) EllapsedTime: 953.0 seconds RetCode: 0 Status: OK CheckDir: findIPs.Rcheck Warnings: 0