Package: findIPs Version: 1.2.0 Command: /Library/Frameworks/R.framework/Resources/bin/R CMD INSTALL findIPs StartedAt: 2025-01-30 16:15:13 -0500 (Thu, 30 Jan 2025) EndedAt: 2025-01-30 16:15:57 -0500 (Thu, 30 Jan 2025) EllapsedTime: 43.7 seconds RetCode: 0 Status: OK