Package: findIPs Version: 1.2.0 Command: /home/biocbuild/R/R/bin/R CMD build --keep-empty-dirs --no-resave-data findIPs StartedAt: 2025-01-30 23:36:21 -0000 (Thu, 30 Jan 2025) EndedAt: 2025-01-30 23:42:52 -0000 (Thu, 30 Jan 2025) EllapsedTime: 390.2 seconds RetCode: 0 Status: OK PackageFile: findIPs_1.2.0.tar.gz PackageFileSize: 2.296 MiB